BEGIN:VCALENDAR
VERSION:2.0
PRODID:-//wp-events-plugin.com//7.2.3.1//EN
TZID:America/Denver
X-WR-TIMEZONE:America/Denver
BEGIN:VEVENT
UID:858@socorronm.gov
DTSTART;TZID=America/Denver:20251206T163000
DTEND;TZID=America/Denver:20251206T203000
DTSTAMP:20250822T180641Z
URL:https://www.socorronm.gov/events/luminarias-plaza/
SUMMARY:Luminarias on the Plaza - Art Stroll
DESCRIPTION:Enjoy Christmas in Socorro with the Annual Luminarias on the Pl
 aza!  The City of Socorro and Socorro County Arts come together each year
  to embrace the Christmas spirit. In a spectacular art stroll\, members of
  the Socorro County Arts display their arts and crafts in shops around the
  beautiful Historic Plaza. Enjoy food\, beverages\, and entertainment as y
 ou follow the path of luminarias from shop to shop! Be there for the offic
 ial lighting of the Christmas Tree.  Have your lists ready as Santa Claus
  who will be on the gazebo waiting to visit you.
LOCATION:Socorro's Historic Plaza\, Plaza\, Socorro\, NM\, 87801\, United S
 tates
GEO:34.0575094;-106.89352529999996
X-APPLE-STRUCTURED-LOCATION;VALUE=URI;X-ADDRESS=Plaza\, Socorro\, NM\, 8780
 1\, United States;X-APPLE-RADIUS=100;X-TITLE=Socorro's Historic Plaza:geo:
 34.0575094,-106.89352529999996
END:VEVENT
BEGIN:VTIMEZONE
TZID:America/Denver
X-LIC-LOCATION:America/Denver
BEGIN:STANDARD
DTSTART:20251102T010000
TZOFFSETFROM:-0600
TZOFFSETTO:-0700
TZNAME:MST
END:STANDARD
END:VTIMEZONE
END:VCALENDAR