BEGIN:VCALENDAR
VERSION:2.0
PRODID:-//wp-events-plugin.com//7.2.3.1//EN
TZID:America/Denver
X-WR-TIMEZONE:America/Denver
BEGIN:VEVENT
UID:649@socorronm.gov
DTSTART;TZID=America/Denver;VALUE=DATE:20260201
DTEND;TZID=America/Denver;VALUE=DATE:20260202
DTSTAMP:20250822T161245Z
URL:https://www.socorronm.gov/events/national-freedom-day/
SUMMARY:National Freedom Day
DESCRIPTION:National Freedom Day is an observance in the United States that
  honors the signing of a resolution that proposed the 13th amendment of th
 e nation's constitution on February 1\, 1865. Abraham Lincoln\, who was th
 e president at the time\, signed the resolution to outlaw slavery. This an
 niversary is annually observed on February 1.
END:VEVENT
BEGIN:VTIMEZONE
TZID:America/Denver
X-LIC-LOCATION:America/Denver
BEGIN:STANDARD
DTSTART:20251102T010000
TZOFFSETFROM:-0600
TZOFFSETTO:-0700
TZNAME:MST
END:STANDARD
END:VTIMEZONE
END:VCALENDAR