BEGIN:VCALENDAR
VERSION:2.0
PRODID:-//wp-events-plugin.com//7.2.3.1//EN
TZID:America/Denver
X-WR-TIMEZONE:America/Denver
BEGIN:VEVENT
UID:875@socorronm.gov
DTSTART;TZID=America/Denver;VALUE=DATE:20260216
DTEND;TZID=America/Denver;VALUE=DATE:20260217
DTSTAMP:20250822T161313Z
URL:https://www.socorronm.gov/events/presidents-day/
SUMMARY:Presidents' Day
DESCRIPTION:Presidents’ Day is an American holiday celebrated on the thir
 d Monday in February. Originally established in 1885 in recognition of Pre
 sident George Washington\, it is still officially called “Washington’s
  Birthday” by the federal government. Traditionally celebrated on Februa
 ry 22—Washington’s actual day of birth—the holiday became popularly 
 known as Presidents’ Day after it was moved as part of 1971’s Uniform 
 Monday Holiday Act\, an attempt to create more three-day weekends for the 
 nation’s workers. While several states still have individual holidays ho
 noring the birthdays of Washington\, Abraham Lincoln and other figures\, P
 residents’ Day is now popularly viewed as a day to celebrate all U.S. pr
 esidents past and present.\n
END:VEVENT
BEGIN:VTIMEZONE
TZID:America/Denver
X-LIC-LOCATION:America/Denver
BEGIN:STANDARD
DTSTART:20251102T010000
TZOFFSETFROM:-0600
TZOFFSETTO:-0700
TZNAME:MST
END:STANDARD
END:VTIMEZONE
END:VCALENDAR