BEGIN:VCALENDAR
VERSION:2.0
PRODID:-//wp-events-plugin.com//7.2.3.1//EN
TZID:America/Denver
X-WR-TIMEZONE:America/Denver
BEGIN:VEVENT
UID:1239@socorronm.gov
DTSTART;TZID=America/Denver:20250829T180000
DTEND;TZID=America/Denver:20250830T175900
DTSTAMP:20250821T164057Z
URL:https://www.socorronm.gov/events/socorro-county-fair-rodeo/
SUMMARY:Socorro County Fair & ProRodeo (PRCA)
DESCRIPTION:\n\nThe Professional Rodeo Cowboys Association (PRCA)\, headqua
 rtered in Colorado Springs\, Colo.\, is the largest and oldest rodeo-sanct
 ioning body in the world. The recognized leader in professional rodeo\, th
 e PRCA is committed to maintaining the highest standards in the industry i
 n every area\, from improving working conditions for contestants and monit
 oring livestock welfare to boosting entertainment value and promoting spon
 sors. The PRCA also proudly supports youth rodeo with educational camps an
 d financial assistance to young standouts preparing to enter the professio
 nal ranks\, as well as supporting allied organizations such as Tough Enoug
 h to Wear Pink\, Miss Rodeo America and the ProRodeo Hall of Fame.\n\n&nbs
 p\;
LOCATION:City of Socorro Rodeo & Sports Complex\, 1 Rodeo Drive\, Socorro\,
  NM\, 87801\, United States
GEO:34.0310308;-106.9148467
X-APPLE-STRUCTURED-LOCATION;VALUE=URI;X-ADDRESS=1 Rodeo Drive\, Socorro\, N
 M\, 87801\, United States;X-APPLE-RADIUS=100;X-TITLE=City of Socorro Rodeo
  & Sports Complex:geo:34.0310308,-106.9148467
END:VEVENT
BEGIN:VTIMEZONE
TZID:America/Denver
X-LIC-LOCATION:America/Denver
BEGIN:DAYLIGHT
DTSTART:20250309T030000
TZOFFSETFROM:-0700
TZOFFSETTO:-0600
TZNAME:MDT
END:DAYLIGHT
END:VTIMEZONE
END:VCALENDAR